BEGIN:VCALENDAR
VERSION:2.0
PRODID:-//ChamberMaster//Event Calendar 2.0//EN
METHOD:PUBLISH
X-PUBLISHED-TTL:P3D
REFRESH-INTERVAL:P3D
CALSCALE:GREGORIAN
BEGIN:VEVENT
DTSTART:20150922T210000Z
DTEND:20150922T220000Z
X-MICROSOFT-CDO-ALLDAYEVENT:FALSE
SUMMARY:Ribbon Cutting - Orthology
DESCRIPTION:Orthology will be hosting an ribbon cutting in conjunction with an open house on September 22\, at 4:00 p.m. They will be hosting other businesses\, giving away prizes in addition to providing food and beverages.
X-ALT-DESC;FMTTYPE=text/html:Orthology will be hosting an ribbon cutting in conjunction with an open house on September 22\, at 4:00&nbsp\;p.m. They will be hosting other businesses\, giving away prizes in addition to providing food and beverages. &nbsp\;
LOCATION:Orthology 3183 Northdale Boulevard Suite 103 Coon Rapids\, 55433
UID:e.380.157359
SEQUENCE:3
DTSTAMP:20260423T030206Z
URL:http://members.metronorthchamber.org/events/details/ribbon-cutting-orthology-09-22-2015-157359
END:VEVENT

END:VCALENDAR
