BEGIN:VCALENDAR
VERSION:2.0
PRODID:-//ChamberMaster//Event Calendar 2.0//EN
METHOD:PUBLISH
X-PUBLISHED-TTL:P3D
REFRESH-INTERVAL:P3D
CALSCALE:GREGORIAN
BEGIN:VEVENT
DTSTART:20171109T220000Z
DTEND:20171109T230000Z
X-MICROSOFT-CDO-ALLDAYEVENT:FALSE
SUMMARY:Ribbon Cutting - Operation Grace MN
DESCRIPTION:Ribbon Cutting for Operation Grace Minnesota with Tours of Little Flossy!
X-ALT-DESC;FMTTYPE=text/html:Ribbon Cutting for Operation Grace Minnesota with Tours of Little Flossy!
LOCATION:Coon Rapids High School 2340 Northdale Blvd NW Coon Rapids\, MN 55433
UID:e.380.179225
SEQUENCE:3
DTSTAMP:20260421T070712Z
URL:http://members.metronorthchamber.org/events/details/ribbon-cutting-operation-grace-mn-179225
END:VEVENT

END:VCALENDAR
