BEGIN:VCALENDAR
VERSION:2.0
PRODID:-//ChamberMaster//Event Calendar 2.0//EN
METHOD:PUBLISH
X-PUBLISHED-TTL:P3D
REFRESH-INTERVAL:P3D
CALSCALE:GREGORIAN
BEGIN:VEVENT
DTSTART:20190418T170000Z
DTEND:20190418T180000Z
X-MICROSOFT-CDO-ALLDAYEVENT:FALSE
SUMMARY:Ribbon Cutting & Open House-Huntington Learning Center-Blaine
DESCRIPTION:Join us for an open house and ribbon cutting to welcome Huntington Learning Center to the Chamber. Refreshments will be served. Ribbon cut at 12:15 pm.
X-ALT-DESC;FMTTYPE=text/html:Join us for an open house and ribbon cutting to welcome Huntington Learning Center to the Chamber. Refreshments will be served. Ribbon cut at 12:15 pm.<br />\n&nbsp\;
LOCATION:Huntington Learning Center 10400 Baltimore Street\, Suite 130 Blaine 55449
UID:e.380.188622
SEQUENCE:3
DTSTAMP:20260420T041814Z
URL:http://members.metronorthchamber.org/events/details/ribbon-cutting-open-house-huntington-learning-center-blaine-188622
END:VEVENT

END:VCALENDAR
