BEGIN:VCALENDAR
VERSION:2.0
PRODID:-//ChamberMaster//Event Calendar 2.0//EN
METHOD:PUBLISH
X-PUBLISHED-TTL:P3D
REFRESH-INTERVAL:P3D
CALSCALE:GREGORIAN
BEGIN:VEVENT
DTSTART:20120814T221500Z
DTEND:20120815T010000Z
X-MICROSOFT-CDO-ALLDAYEVENT:FALSE
SUMMARY:Ribbon Cutting & Open House for The 'nMotion Dance Center
DESCRIPTION:Come celebrate the ribbon cutting of The 'nMotion Dance Center!\n\n\n\nThe Ribbon Cutting Ceremony will be at 5:15 pm.  Then\, stay for their Open House to meet their talented staff\,  learn about their classes\, and have your child participate in a FREE kid dance class. Open House will go until 8:00pm.\n\n\n\nThe 'nMotion Dance Center is pleased to be partnering with Grandpa's Ice Cream (yes\, FREE cones for everyone all night!)\, and Rasmussen College.   \n\n\n\nSmiling Spaces will also be there to give solutions about your most challenging organizing dilemmas\, give away helpful tools for home\, and talk about their Organizing Workshop later in August at the 'nMotion studio.   \n\n\n\nDon't miss out on a night of celebrating with the Chamber!
X-ALT-DESC;FMTTYPE=text/html:Come celebrate the ribbon cutting of The &#39\;nMotion Dance Center!<br />\n<br />\nThe Ribbon Cutting Ceremony will be at 5:15 pm.&nbsp\; Then\, stay for their Open House to meet their talented staff\,&nbsp\; learn about their classes\, and have your child participate in a FREE kid dance class. Open House will go until 8:00pm.<br />\n<br />\nThe &#39\;nMotion Dance Center is pleased to be partnering with <em>Grandpa&#39\;s Ice Cream</em> (yes\, FREE cones for everyone all night!)\, and <em>Rasmussen College</em>.&nbsp\; &nbsp\;<br />\n<br />\n<em>Smiling Spaces </em>will also be there to&nbsp\;give solutions&nbsp\;about&nbsp\;your most challenging organizing dilemmas\,&nbsp\;give away helpful tools for home\, and talk about&nbsp\;their Organizing&nbsp\;Workshop later in August at the &#39\;nMotion studio.&nbsp\; &nbsp\;<br />\n<br />\nDon&#39\;t miss out on a night of celebrating with the Chamber!<br />\n<br />\n<br />\n<br />\n<br />\n<br />\n<br />\n
LOCATION:The 'nMotion Dance Center 7950 University Avenue Fridley\, MN 55432
UID:e.380.143796
SEQUENCE:3
DTSTAMP:20260425T125729Z
URL:http://members.metronorthchamber.org/events/details/ribbon-cutting-open-house-for-the-nmotion-dance-center-08-14-2012-143796
END:VEVENT

END:VCALENDAR
