BEGIN:VCALENDAR
VERSION:2.0
PRODID:-//ChamberMaster//Event Calendar 2.0//EN
METHOD:PUBLISH
X-PUBLISHED-TTL:P3D
REFRESH-INTERVAL:P3D
CALSCALE:GREGORIAN
BEGIN:VEVENT
DTSTART:20180712T170000Z
DTEND:20180712T190000Z
X-MICROSOFT-CDO-ALLDAYEVENT:FALSE
SUMMARY:Ribbon Cutting & Open House - Allstate
DESCRIPTION:Join us in Welcoming Allstate -  Mary Toske to the MetroNorth Chamber.
X-ALT-DESC;FMTTYPE=text/html:Join us in Welcoming Allstate -&nbsp\; Mary Toske to the MetroNorth Chamber.
LOCATION:3585 124th Avenue NW Floor 1 Coon Rapids\, MN 55433
UID:e.380.185308
SEQUENCE:3
DTSTAMP:20260420T182554Z
URL:http://members.metronorthchamber.org/events/details/ribbon-cutting-open-house-allstate-185308
END:VEVENT

END:VCALENDAR
