BEGIN:VCALENDAR
VERSION:2.0
PRODID:-//ChamberMaster//Event Calendar 2.0//EN
METHOD:PUBLISH
X-PUBLISHED-TTL:P3D
REFRESH-INTERVAL:P3D
CALSCALE:GREGORIAN
BEGIN:VEVENT
DTSTART:20120920T170000Z
DTEND:20120920T180000Z
X-MICROSOFT-CDO-ALLDAYEVENT:FALSE
SUMMARY:Ribbon Cutting of The Original Mattress Factory - Northtown
DESCRIPTION:Come celebrate the exciting ribbon cutting of The Original Mattress Factory - Northtown!
X-ALT-DESC;FMTTYPE=text/html:Come celebrate the exciting ribbon cutting of The Original Mattress Factory - Northtown!
LOCATION:The Original Mattress Factory - Northtown 8500 Springbrook Drive Coon Rapids\, MN 55433
UID:e.380.146225
SEQUENCE:3
DTSTAMP:20260425T125850Z
URL:http://members.metronorthchamber.org/events/details/ribbon-cutting-of-the-original-mattress-factory-northtown-09-20-2012-146225
END:VEVENT

END:VCALENDAR
