BEGIN:VCALENDAR
VERSION:2.0
PRODID:-//ChamberMaster//Event Calendar 2.0//EN
METHOD:PUBLISH
X-PUBLISHED-TTL:P3D
REFRESH-INTERVAL:P3D
CALSCALE:GREGORIAN
BEGIN:VEVENT
DTSTART:20120921T170000Z
DTEND:20120921T173000Z
X-MICROSOFT-CDO-ALLDAYEVENT:FALSE
SUMMARY:Ribbon Cutting of Metro Dentalcare - Blaine
DESCRIPTION:Come celebrate with us the ribbon cutting of the newly remodeled Metro Dentalcare - Blaine!
X-ALT-DESC;FMTTYPE=text/html:Come celebrate with us the ribbon cutting of the newly remodeled Metro Dentalcare - Blaine!
LOCATION:Metro Dentalcare - Blaine 261 NE County Road 10 Blaine\, MN 55434
UID:e.380.146210
SEQUENCE:3
DTSTAMP:20260425T114413Z
URL:http://members.metronorthchamber.org/events/details/ribbon-cutting-of-metro-dentalcare-blaine-09-21-2012-146210
END:VEVENT

END:VCALENDAR
