BEGIN:VCALENDAR
VERSION:2.0
PRODID:-//ChamberMaster//Event Calendar 2.0//EN
METHOD:PUBLISH
X-PUBLISHED-TTL:P3D
REFRESH-INTERVAL:P3D
CALSCALE:GREGORIAN
BEGIN:VEVENT
DTSTART:20160323T153000Z
DTEND:20160323T154500Z
X-MICROSOFT-CDO-ALLDAYEVENT:FALSE
SUMMARY:Ribbon Cutting - Now Get Going Fitness
DESCRIPTION:We will be holding a ribbon cutting for Denise Wellik-Peterson from Now Get Going Fitness. She is celebrating her new membership with the chamber. The ribbon cutting will be held at Rasmussen College\, immediately following the Working With Women meeting.
X-ALT-DESC;FMTTYPE=text/html:We will be holding a ribbon cutting for Denise Wellik-Peterson from Now Get Going Fitness. She is celebrating her new membership with the chamber. The ribbon cutting will be held at Rasmussen College\, immediately following the Working With Women meeting.<br />\n&nbsp\;
LOCATION:Rasmussen College Blaine Campus 3629 95th Ave NE Blaine\, MN 55014
UID:e.380.163413
SEQUENCE:3
DTSTAMP:20260422T163847Z
URL:http://members.metronorthchamber.org/events/details/ribbon-cutting-now-get-going-fitness-03-23-2016-163413
END:VEVENT

END:VCALENDAR
