BEGIN:VCALENDAR
VERSION:2.0
PRODID:-//ChamberMaster//Event Calendar 2.0//EN
METHOD:PUBLISH
X-PUBLISHED-TTL:P3D
REFRESH-INTERVAL:P3D
CALSCALE:GREGORIAN
BEGIN:VEVENT
DTSTART:20180613T210000Z
DTEND:20180613T213000Z
X-MICROSOFT-CDO-ALLDAYEVENT:FALSE
SUMMARY:Ribbon Cutting - NovaCare
DESCRIPTION:Join us in welcoming Novacare to the Chamber!!
X-ALT-DESC;FMTTYPE=text/html:Join us in welcoming Novacare to the Chamber!!
LOCATION:2104 Northdale Blvd NW Suite 100 Coon Rapids\, MN 55433
UID:e.380.184870
SEQUENCE:3
DTSTAMP:20260420T200617Z
URL:http://members.metronorthchamber.org/events/details/ribbon-cutting-novacare-184870
END:VEVENT

END:VCALENDAR
