BEGIN:VCALENDAR
VERSION:2.0
PRODID:-//ChamberMaster//Event Calendar 2.0//EN
METHOD:PUBLISH
X-PUBLISHED-TTL:P3D
REFRESH-INTERVAL:P3D
CALSCALE:GREGORIAN
BEGIN:VEVENT
DTSTART:20160425T133000Z
DTEND:20160425T140000Z
X-MICROSOFT-CDO-ALLDAYEVENT:FALSE
SUMMARY:Ribbon Cutting - Northeast Bank New Brighton
DESCRIPTION:Northeast Bank is celebrating the Grand Opening of their New Brighton office!\n\n\n\nRefreshments will be served throughout the day. Rolls\, water and coffee in the morning. Cake\, water and coffee throughout the day. Tours ongoing.\n\nGuests may also register for a FREE iPad drawing and vote for one of three local nonprofits. The local nonprofit with the most votes by Friday\, June 17\, will receive a $1\,000 donation.
X-ALT-DESC;FMTTYPE=text/html:<p><span style="font-size: 10pt\; font-family: Arial\, sans-serif\; background-image: initial\; background-attachment: initial\; background-size: initial\; background-origin: initial\; background-clip: initial\; background-position: initial\; background-repeat: initial\;">Northeast Bank is celebrating the Grand Opening of their New Brighton office!</span><br />\n<br />\nRefreshments will be served throughout the day. Rolls\, water and coffee in the morning. Cake\, water and coffee throughout the day. Tours ongoing.<br />\n<span style="font-family:calibri\,sans-serif\;"><span style="font-size:11.0pt\;">Guests may also register for a FREE iPad drawing and vote for one of three local nonprofits. The local nonprofit with the most votes by Friday\, June 17\, will receive a $1\,000 donation.</span></span><o:p></o:p></p>\n
LOCATION:Northeast Bank 1135 Silver Lake Road NW New Brighton\, MN 55112
UID:e.380.167457
SEQUENCE:3
DTSTAMP:20260422T145918Z
URL:http://members.metronorthchamber.org/events/details/ribbon-cutting-northeast-bank-new-brighton-04-25-2016-167457
END:VEVENT

END:VCALENDAR
