BEGIN:VCALENDAR
VERSION:2.0
PRODID:-//ChamberMaster//Event Calendar 2.0//EN
METHOD:PUBLISH
X-PUBLISHED-TTL:P3D
REFRESH-INTERVAL:P3D
CALSCALE:GREGORIAN
BEGIN:VEVENT
DTSTART:20180407T150000Z
DTEND:20180407T153000Z
X-MICROSOFT-CDO-ALLDAYEVENT:FALSE
SUMMARY:Ribbon Cutting - Nevalia's
DESCRIPTION:Join us to welcome Nevalia's to the Chamber.
X-ALT-DESC;FMTTYPE=text/html:Join us to welcome Nevalia&#39\;s to the Chamber.
LOCATION:4325 Pheasant Ridge Drive NE Suite 502 Blaine\, MN 55449
UID:e.380.183771
SEQUENCE:3
DTSTAMP:20260421T003154Z
URL:http://members.metronorthchamber.org/events/details/ribbon-cutting-nevalia-s-183771
END:VEVENT

END:VCALENDAR
