BEGIN:VCALENDAR
VERSION:2.0
PRODID:-//ChamberMaster//Event Calendar 2.0//EN
METHOD:PUBLISH
X-PUBLISHED-TTL:P3D
REFRESH-INTERVAL:P3D
CALSCALE:GREGORIAN
BEGIN:VEVENT
DTSTART:20170823T160000Z
DTEND:20170823T170000Z
X-MICROSOFT-CDO-ALLDAYEVENT:FALSE
SUMMARY:Ribbon Cutting - Mint Salon
DESCRIPTION:Ribbon Cutting to Celebrate New Chamber Member Mint Salon & Spa\n\nRefreshments will be served!\n\nEnter a drawing to win a basket of hair/skin products!\n\nPlenty of Parking!
X-ALT-DESC;FMTTYPE=text/html:Ribbon Cutting to Celebrate New Chamber Member Mint Salon &amp\; Spa<br />\nRefreshments will be served!<br />\nEnter a drawing to win a basket of hair/skin products!<br />\nPlenty of Parking!
LOCATION:Mint Salon & Spa 43 Central St. Circle Pines\, MN 55014
UID:e.380.176489
SEQUENCE:3
DTSTAMP:20260421T110659Z
URL:http://members.metronorthchamber.org/events/details/ribbon-cutting-mint-salon-176489
END:VEVENT

END:VCALENDAR
