BEGIN:VCALENDAR
VERSION:2.0
PRODID:-//ChamberMaster//Event Calendar 2.0//EN
METHOD:PUBLISH
X-PUBLISHED-TTL:P3D
REFRESH-INTERVAL:P3D
CALSCALE:GREGORIAN
BEGIN:VEVENT
DTSTART:20160602T200000Z
DTEND:20160603T000000Z
X-MICROSOFT-CDO-ALLDAYEVENT:FALSE
SUMMARY:Ribbon Cutting - Mickman Brothers
DESCRIPTION:Help celebrate the addition of the new Design Studio Building at Mickman Brothers with a ribbon cutting and open house.\n\n\n\nFood and Refreshments Catered by Smokey's. Each person will receive a Free 6" Geranium (while supplies last) Meet the Staff Design Studio Tours will be given during the event.
X-ALT-DESC;FMTTYPE=text/html:Help celebrate the addition of the new Design Studio Building at Mickman Brothers with a ribbon cutting and open house.<br />\n<br />\nFood and Refreshments Catered by Smokey&#39\;s. Each person will receive a Free 6&quot\; Geranium (while supplies last) Meet the Staff Design Studio Tours will be given during the event.<br />\n&nbsp\;
LOCATION:Mickman Brothers 14630 Highway 65 Ham Lake\, MN 55304
UID:e.380.168059
SEQUENCE:3
DTSTAMP:20260422T102917Z
URL:http://members.metronorthchamber.org/events/details/ribbon-cutting-mickman-brothers-06-02-2016-168059
END:VEVENT

END:VCALENDAR
