BEGIN:VCALENDAR
VERSION:2.0
PRODID:-//ChamberMaster//Event Calendar 2.0//EN
METHOD:PUBLISH
X-PUBLISHED-TTL:P3D
REFRESH-INTERVAL:P3D
CALSCALE:GREGORIAN
BEGIN:VEVENT
DTSTART:20151015T210000Z
DTEND:20151015T230000Z
X-MICROSOFT-CDO-ALLDAYEVENT:FALSE
SUMMARY:Ribbon Cutting - Metro Self Storage - Blaine
DESCRIPTION:Metro Storage will be hosting an open house and ribbon cutting on October 15. They will be having a pig roast and refreshments along with tours of their new facility. The ribbon cutting portion of the event will be taking place at 4:30 p.m.
X-ALT-DESC;FMTTYPE=text/html:Metro Storage will be hosting an open house and ribbon cutting on October 15. They will be having a pig roast and refreshments along with tours of their new facility. The ribbon cutting portion of the event will be taking place at 4:30 p.m.&nbsp\; &nbsp\;
LOCATION:Metro Self Storage - Blaine 9941 Central Avenue NE\, Blaine MN 55434
UID:e.380.159584
SEQUENCE:3
DTSTAMP:20260422T234659Z
URL:http://members.metronorthchamber.org/events/details/ribbon-cutting-metro-self-storage-blaine-10-15-2015-159584
END:VEVENT

END:VCALENDAR
