BEGIN:VCALENDAR
VERSION:2.0
PRODID:-//ChamberMaster//Event Calendar 2.0//EN
METHOD:PUBLISH
X-PUBLISHED-TTL:P3D
REFRESH-INTERVAL:P3D
CALSCALE:GREGORIAN
BEGIN:VEVENT
DTSTART:20170607T210000Z
DTEND:20170607T220000Z
X-MICROSOFT-CDO-ALLDAYEVENT:FALSE
SUMMARY:Ribbon Cutting - MB2 Raceway
DESCRIPTION:MB2 Raceway is a New Business in Fridley! We are going to help welcome them to the chamber with a wonderful ribbon cutting ceremony on June 7th. Snacks\, drinks and gifts will be available for all attendees. MB2 Raceway will also be offering tours AND they will get everyone out for a FREE RACE!\n\n\n\n*In order to race you will need to wear closed toe\, flat shoes.  No sandals or heels*
X-ALT-DESC;FMTTYPE=text/html:MB2 Raceway is a New Business in Fridley! We are going to help welcome them to the chamber with a wonderful ribbon cutting ceremony on June 7th. Snacks\, drinks and gifts will be available for all attendees. MB2 Raceway will also be offering tours AND they will get everyone out for a FREE RACE!<br />\n<br />\n*In order to race you will need to wear closed toe\, flat shoes. &nbsp\;No sandals or heels*
LOCATION:MB2 Raceway 45 Northern Stacks Dr. Ste 200 Fridley
UID:e.380.175098
SEQUENCE:3
DTSTAMP:20260421T135108Z
URL:http://members.metronorthchamber.org/events/details/ribbon-cutting-mb2-raceway-175098
END:VEVENT

END:VCALENDAR
