BEGIN:VCALENDAR
VERSION:2.0
PRODID:-//ChamberMaster//Event Calendar 2.0//EN
METHOD:PUBLISH
X-PUBLISHED-TTL:P3D
REFRESH-INTERVAL:P3D
CALSCALE:GREGORIAN
BEGIN:VEVENT
DTSTART:20160805T140000Z
DTEND:20160805T143000Z
X-MICROSOFT-CDO-ALLDAYEVENT:FALSE
SUMMARY:Ribbon Cutting - Mary Kay Amy Weber-DeRaad
DESCRIPTION:Amy Weber-DeRaad of Mary Kay will be holding a ribbon cutting on Friday August 5th. Help her celebrate 9 years with Mary Kay and 1 year with the MetroNorth Chamber of Commerce. The ribbon cutting will be taking place at The Tavern Grill in Blaine immediately following the 1st Friday Sunrise.
X-ALT-DESC;FMTTYPE=text/html:Amy Weber-DeRaad of Mary Kay will be holding a ribbon cutting on Friday August 5th. Help her celebrate 9 years with Mary Kay and 1 year with the MetroNorth Chamber of Commerce. The ribbon cutting will be taking place at The Tavern Grill in Blaine immediately following the 1st Friday Sunrise.
LOCATION:The Tavern Grill 10950 Club West Parkway Blaine\, MN 55449
UID:e.380.168860
SEQUENCE:3
DTSTAMP:20260422T071910Z
URL:http://members.metronorthchamber.org/events/details/ribbon-cutting-mary-kay-amy-weber-deraad-08-05-2016-168860
END:VEVENT

END:VCALENDAR
