BEGIN:VCALENDAR
VERSION:2.0
PRODID:-//ChamberMaster//Event Calendar 2.0//EN
METHOD:PUBLISH
X-PUBLISHED-TTL:P3D
REFRESH-INTERVAL:P3D
CALSCALE:GREGORIAN
BEGIN:VEVENT
DTSTART:20161201T220000Z
DTEND:20161201T230000Z
X-MICROSOFT-CDO-ALLDAYEVENT:FALSE
SUMMARY:Ribbon Cutting - Maki Chiropractic Clinic
DESCRIPTION:You are invited to help celebrate the Grand Opening of Maki Chiropractic Clinic. They have just joined the MetroNorth Chamber\, and we look forward to welcoming them to the north metro business community. There will be refreshments for all of their guests.
X-ALT-DESC;FMTTYPE=text/html:You are invited to help celebrate the Grand Opening of Maki Chiropractic Clinic. They have just joined the MetroNorth Chamber\, and we look forward to welcoming them to the north metro business community. There will be refreshments for all of their guests.&nbsp\;
LOCATION:Maki Chiropractic Clinic 607 County Highway 10 NE Suite 104 Blaine\, MN 55434.
UID:e.380.170168
SEQUENCE:3
DTSTAMP:20260421T235717Z
URL:http://members.metronorthchamber.org/events/details/ribbon-cutting-maki-chiropractic-clinic-170168
END:VEVENT

END:VCALENDAR
