BEGIN:VCALENDAR
VERSION:2.0
PRODID:-//ChamberMaster//Event Calendar 2.0//EN
METHOD:PUBLISH
X-PUBLISHED-TTL:P3D
REFRESH-INTERVAL:P3D
CALSCALE:GREGORIAN
BEGIN:VEVENT
DTSTART:20150611T170000Z
DTEND:20150611T180000Z
X-MICROSOFT-CDO-ALLDAYEVENT:FALSE
SUMMARY:Ribbon Cutting - Mainstream Boutique
DESCRIPTION:Mainstream Boutique is hosting a Ribbon Cutting to celebrate their grand opening.\n\nRobin from Mainstream Boutique will be providing treats from Nothing Bundt Cakes\, along with other snacks and refreshments. Local clothing designer Laura Hlavac and local jewelry designer Jane Whitney from No Whining will be doing trunk shows.\n\n\n\nMainstream Boutique will also be offering 20% off entire purchases for the day and have a price wheel with giveaways for every customer including a $100 gift card!
X-ALT-DESC;FMTTYPE=text/html:Mainstream Boutique is hosting a Ribbon Cutting to celebrate their grand opening.<br />\nRobin from Mainstream Boutique will be providing treats from Nothing Bundt&nbsp\;Cakes\, along with other snacks and refreshments. Local clothing designer Laura Hlavac and local jewelry designer Jane Whitney from No Whining will be doing trunk shows.<br />\n<br />\nMainstream Boutique will also be offering 20% off entire purchases for the day and have a price wheel with giveaways for every customer including&nbsp\;a $100 gift card!
LOCATION:Mainstream Boutique 1450 109th Ave NE Suite 120 Blaine\, MN 55434
UID:e.380.157350
SEQUENCE:3
DTSTAMP:20260423T083818Z
URL:http://members.metronorthchamber.org/events/details/ribbon-cutting-mainstream-boutique-06-11-2015-157350
END:VEVENT

END:VCALENDAR
