BEGIN:VCALENDAR
VERSION:2.0
PRODID:-//ChamberMaster//Event Calendar 2.0//EN
METHOD:PUBLISH
X-PUBLISHED-TTL:P3D
REFRESH-INTERVAL:P3D
CALSCALE:GREGORIAN
BEGIN:VEVENT
DTSTART:20170309T220000Z
DTEND:20170309T224500Z
X-MICROSOFT-CDO-ALLDAYEVENT:FALSE
SUMMARY:Ribbon Cutting - Lyric Arts
DESCRIPTION:Join us at Lyric Arts as we host a ribbon cutting ceremony to announce their 2017-2018 season to MetroNorth Chamber members before any other business organizations.  In celebration of the new season announcement\, we will host a happy hour with popcorn and treats and a special sneak peek performance by some of our Lyric Arts actors.  For all who attend\, we will be doing a drawing for 2 tickets to any show in our 2016-2017 season!
X-ALT-DESC;FMTTYPE=text/html:<span style="color:#1F497D\;">Join us at Lyric Arts as we host a ribbon cutting ceremony to announce their 2017-2018 season to MetroNorth Chamber members before any other business organizations.&nbsp\; In celebration of the new season announcement\, we will host a happy hour with popcorn and treats and a special sneak peek performance by some of our Lyric Arts actors. &nbsp\;For all who attend\, we will be doing a drawing for 2 tickets to any show in our 2016-2017 season!&nbsp\;</span>
LOCATION:Lyric Arts Main Street Stage 420 East Main Street Anoka\, MN 55303
UID:e.380.171478
SEQUENCE:3
DTSTAMP:20260421T204020Z
URL:http://members.metronorthchamber.org/events/details/ribbon-cutting-lyric-arts-171478
END:VEVENT

END:VCALENDAR
