BEGIN:VCALENDAR
VERSION:2.0
PRODID:-//ChamberMaster//Event Calendar 2.0//EN
METHOD:PUBLISH
X-PUBLISHED-TTL:P3D
REFRESH-INTERVAL:P3D
CALSCALE:GREGORIAN
BEGIN:VEVENT
DTSTART:20171020T170000Z
DTEND:20171020T180000Z
X-MICROSOFT-CDO-ALLDAYEVENT:FALSE
SUMMARY:Ribbon Cutting-LockLeed International
DESCRIPTION:We Invite You to Join Us!\n\nOctober 20th Anytime Between 11-4 PM\n\n\n\nGrowth and expansion is the result of remarkable partnerships! LockLeed International is currently working with 1500 Veterans locally and will be expanding into a new office on October 1st.\n\n\n\nTo celebrate we will be having an open house/partner appreciation event on October 20\, 2017. Come join us between 11-4 PM for great food and networking!\n\n\n\nWe look forward to seeing you there!
X-ALT-DESC;FMTTYPE=text/html:We Invite You to Join Us!<br />\nOctober 20th Anytime Between 11-4 PM<br />\n<br />\nGrowth and expansion is the result of remarkable partnerships! LockLeed International is currently working with 1500 Veterans locally and will be expanding into a new office on October 1st.<br />\n<br />\nTo celebrate we will be having an open house/partner appreciation event on October 20\, 2017. Come join us between 11-4 PM for great food&nbsp\;and networking!<br />\n<br />\nWe look forward to seeing you there!&nbsp\;&nbsp\;&nbsp\;&nbsp\;
LOCATION:10235 University Ave NE Minneapolis\, MN 55434
UID:e.380.179193
SEQUENCE:3
DTSTAMP:20260421T111046Z
URL:http://members.metronorthchamber.org/events/details/ribbon-cutting-lockleed-international-179193
END:VEVENT

END:VCALENDAR
