BEGIN:VCALENDAR
VERSION:2.0
PRODID:-//ChamberMaster//Event Calendar 2.0//EN
METHOD:PUBLISH
X-PUBLISHED-TTL:P3D
REFRESH-INTERVAL:P3D
CALSCALE:GREGORIAN
BEGIN:VEVENT
DTSTART:20180223T220000Z
DTEND:20180223T230000Z
X-MICROSOFT-CDO-ALLDAYEVENT:FALSE
SUMMARY:Ribbon Cutting - Life Prep Academy
DESCRIPTION:Open House "Treats and Tours" to celebrate the opening of the new dorm!\n\nRaffle items available and chocolate for sale!
X-ALT-DESC;FMTTYPE=text/html:Open House &quot\;Treats and Tours&quot\; to celebrate the opening of the new dorm!<br />\nRaffle items available and chocolate for sale!
LOCATION:Life Prep Academy 1628 County Highway 10 Spring Lake Park 55432
UID:e.380.180199
SEQUENCE:3
DTSTAMP:20260421T022339Z
URL:http://members.metronorthchamber.org/events/details/ribbon-cutting-life-prep-academy-180199
END:VEVENT

END:VCALENDAR
