BEGIN:VCALENDAR
VERSION:2.0
PRODID:-//ChamberMaster//Event Calendar 2.0//EN
METHOD:PUBLISH
X-PUBLISHED-TTL:P3D
REFRESH-INTERVAL:P3D
CALSCALE:GREGORIAN
BEGIN:VEVENT
DTSTART:20190131T210000Z
DTEND:20190131T220000Z
X-MICROSOFT-CDO-ALLDAYEVENT:FALSE
SUMMARY:Ribbon Cutting-Legends of Spring Lake Park
DESCRIPTION:Join The Legends of Spring Lake Park Senior Living for a Grand Opening and Ribbon Cutting. Let's show our support for this new member and join them in their celebration!
X-ALT-DESC;FMTTYPE=text/html:Join The Legends of Spring Lake Park Senior Living for a Grand Opening and Ribbon Cutting. Let&#39\;s show our support for this new member and join them in their celebration!
LOCATION:The Legends of Spring Lake Park Senior Living 1066 Couny Highway 10 NE Spring Lake Park 55432
UID:e.380.187937
SEQUENCE:3
DTSTAMP:20260420T091609Z
URL:http://members.metronorthchamber.org/events/details/ribbon-cutting-legends-of-spring-lake-park-187937
END:VEVENT

END:VCALENDAR
