BEGIN:VCALENDAR
VERSION:2.0
PRODID:-//ChamberMaster//Event Calendar 2.0//EN
METHOD:PUBLISH
X-PUBLISHED-TTL:P3D
REFRESH-INTERVAL:P3D
CALSCALE:GREGORIAN
BEGIN:VEVENT
DTSTART:20180731T210000Z
DTEND:20180731T230000Z
X-MICROSOFT-CDO-ALLDAYEVENT:FALSE
SUMMARY:Ribbon Cutting Lee Carlson - Coon Rapids
DESCRIPTION:Please join us for the Open House/Ribbon Cutting for the Lee Carlson Center Coon Rapids Clinic.
X-ALT-DESC;FMTTYPE=text/html:Please join us for the Open House/Ribbon Cutting for the Lee Carlson Center Coon Rapids Clinic.<br />\n<br />\n<br />\n&nbsp\;
LOCATION:Coon Rapids Clinic 10091 Dogwood Street NW Coon Rapids 55448
UID:e.380.185700
SEQUENCE:3
DTSTAMP:20260420T182555Z
URL:http://members.metronorthchamber.org/events/details/ribbon-cutting-lee-carlson-coon-rapids-185700
END:VEVENT

END:VCALENDAR
