BEGIN:VCALENDAR
VERSION:2.0
PRODID:-//ChamberMaster//Event Calendar 2.0//EN
METHOD:PUBLISH
X-PUBLISHED-TTL:P3D
REFRESH-INTERVAL:P3D
CALSCALE:GREGORIAN
BEGIN:VEVENT
DTSTART:20170120T151500Z
DTEND:20170120T153000Z
X-MICROSOFT-CDO-ALLDAYEVENT:FALSE
SUMMARY:Ribbon Cutting - Lakes Apparel
DESCRIPTION:Help us celebrate the Grand Re-Opening of Lakes Apparel. They will be celebrating with a ribbon cutting immediately after our 3rd Friday Sunrise at Moe's in Mounds View.
X-ALT-DESC;FMTTYPE=text/html:<span style="background-image:initial\;background-position:initial\;background-size:initial\;background-repeat:initial\;background-attachment:initial\;background-origin:initial\;background-clip:initial\;"><span style="font-family:arial\,sans-serif\;"><span style="font-size:10pt\;">Help us celebrate the Grand Re-Opening of Lakes Apparel. They will be celebrating with a ribbon cutting immediately after our 3rd Friday Sunrise at Moe&#39\;s in Mounds View.</span></span></span>
LOCATION:Moe's Restaurant 2400 Highway 10 Mounds View\, MN 55112
UID:e.380.170185
SEQUENCE:3
DTSTAMP:20260421T221212Z
URL:http://members.metronorthchamber.org/events/details/ribbon-cutting-lakes-apparel-170185
END:VEVENT

END:VCALENDAR
