BEGIN:VCALENDAR
VERSION:2.0
PRODID:-//ChamberMaster//Event Calendar 2.0//EN
METHOD:PUBLISH
X-PUBLISHED-TTL:P3D
REFRESH-INTERVAL:P3D
CALSCALE:GREGORIAN
BEGIN:VEVENT
DTSTART:20181129T220000Z
DTEND:20181129T223000Z
X-MICROSOFT-CDO-ALLDAYEVENT:FALSE
SUMMARY:Ribbon Cutting - La Vintage LaRee
DESCRIPTION:Join us to Welcome La Vintage LaRee\n\nRibbon Cutting at 4:15pm\n\nRefreshments provided
X-ALT-DESC;FMTTYPE=text/html:Join us to Welcome La Vintage LaRee<br />\nRibbon Cutting at 4:15pm<br />\nRefreshments provided
LOCATION:2 South Pine Drive\, Suite K\, Circle Pines\, MN 55014
UID:e.380.187449
SEQUENCE:3
DTSTAMP:20260420T121422Z
URL:http://members.metronorthchamber.org/events/details/ribbon-cutting-la-vintage-la-ree-187449
END:VEVENT

END:VCALENDAR
