BEGIN:VCALENDAR
VERSION:2.0
PRODID:-//ChamberMaster//Event Calendar 2.0//EN
METHOD:PUBLISH
X-PUBLISHED-TTL:P3D
REFRESH-INTERVAL:P3D
CALSCALE:GREGORIAN
BEGIN:VEVENT
DTSTART:20181127T180000Z
DTEND:20181127T200000Z
X-MICROSOFT-CDO-ALLDAYEVENT:FALSE
SUMMARY:Ribbon Cutting-Kwik Trip Blaine Radisson Road
DESCRIPTION:Program Starts at Noon.\n\nRibbon Cutting at 1 pm.
X-ALT-DESC;FMTTYPE=text/html:Program Starts at Noon.<br />\nRibbon Cutting at 1 pm.&nbsp\;
LOCATION:Kwik Trip 10510 Radisson Road NE Blaine\, MN 55449
UID:e.380.187258
SEQUENCE:3
DTSTAMP:20260420T121346Z
URL:http://members.metronorthchamber.org/events/details/ribbon-cutting-kwik-trip-blaine-radisson-road-187258
END:VEVENT

END:VCALENDAR
