BEGIN:VCALENDAR
VERSION:2.0
PRODID:-//ChamberMaster//Event Calendar 2.0//EN
METHOD:PUBLISH
X-PUBLISHED-TTL:P3D
REFRESH-INTERVAL:P3D
CALSCALE:GREGORIAN
BEGIN:VEVENT
DTSTART:20190206T183000Z
DTEND:20190206T203000Z
X-MICROSOFT-CDO-ALLDAYEVENT:FALSE
SUMMARY:Ribbon Cutting-Kwik Trip Blaine Fraizer Street
DESCRIPTION:Please join us in celebrating the newest Kwik Trip to our neighborhood! Ribbon will be cut at 1:30pm.
X-ALT-DESC;FMTTYPE=text/html:Please join us in celebrating the newest Kwik Trip to our neighborhood! Ribbon will be cut at 1:30pm.
LOCATION:Kwik Trip 12260 Fraizer Street NE Blaine 55449
UID:e.380.187259
SEQUENCE:3
DTSTAMP:20260420T091641Z
URL:http://members.metronorthchamber.org/events/details/ribbon-cutting-kwik-trip-blaine-fraizer-street-187259
END:VEVENT

END:VCALENDAR
