BEGIN:VCALENDAR
VERSION:2.0
PRODID:-//ChamberMaster//Event Calendar 2.0//EN
METHOD:PUBLISH
X-PUBLISHED-TTL:P3D
REFRESH-INTERVAL:P3D
CALSCALE:GREGORIAN
BEGIN:VEVENT
DTSTART:20140212T160000Z
DTEND:20140212T163000Z
X-MICROSOFT-CDO-ALLDAYEVENT:FALSE
SUMMARY:Ribbon Cutting - Kwik Trip - Blaine
DESCRIPTION:Please come celebrate with us the grand opening and ribbon cutting of Kwik Trip's new Blaine North location!
X-ALT-DESC;FMTTYPE=text/html:Please come celebrate with us the grand opening and ribbon cutting of Kwik Trip&#39\;s new Blaine North location!<br type="_moz" />\n
LOCATION:3405 Lake Dr. NE Blaine\, MN
UID:e.380.150045
SEQUENCE:3
DTSTAMP:20260424T092928Z
URL:http://members.metronorthchamber.org/events/details/ribbon-cutting-kwik-trip-blaine-02-12-2014-150045
END:VEVENT

END:VCALENDAR
