BEGIN:VCALENDAR
VERSION:2.0
PRODID:-//ChamberMaster//Event Calendar 2.0//EN
METHOD:PUBLISH
X-PUBLISHED-TTL:P3D
REFRESH-INTERVAL:P3D
CALSCALE:GREGORIAN
BEGIN:VEVENT
DTSTART:20170818T180000Z
DTEND:20170818T190000Z
X-MICROSOFT-CDO-ALLDAYEVENT:FALSE
SUMMARY:Ribbon Cutting - Klein Bank
DESCRIPTION:Anniversary Ribbon Cutting for Klein Bank in Coon Rapids to celebrate 110 Years! Cake and refreshments will be served as part of a customer appreciation day.
X-ALT-DESC;FMTTYPE=text/html:Anniversary Ribbon Cutting for Klein Bank in Coon Rapids to celebrate 110 Years! Cake and refreshments will be served as part of a customer appreciation day.
LOCATION:Klein Bank 3251 Northdale Blvd Coon Rapids\, MN 55448
UID:e.380.176289
SEQUENCE:3
DTSTAMP:20260421T111047Z
URL:http://members.metronorthchamber.org/events/details/ribbon-cutting-klein-bank-176289
END:VEVENT

END:VCALENDAR
