BEGIN:VCALENDAR
VERSION:2.0
PRODID:-//ChamberMaster//Event Calendar 2.0//EN
METHOD:PUBLISH
X-PUBLISHED-TTL:P3D
REFRESH-INTERVAL:P3D
CALSCALE:GREGORIAN
BEGIN:VEVENT
DTSTART:20151104T221500Z
DTEND:20151104T224500Z
X-MICROSOFT-CDO-ALLDAYEVENT:FALSE
SUMMARY:Ribbon Cutting - Kendall's Tavern & Chophouse
DESCRIPTION:Join us in celebrating the Grand opening of Kendall's Tavern & Chophouse\, formerly Bunker Hills Bar & Grill. They will be providing beverages\, sweets\, and a chance to win a $50 gift certificate.
X-ALT-DESC;FMTTYPE=text/html:Join us in celebrating the Grand opening of Kendall&#39\;s Tavern &amp\; Chophouse\, formerly Bunker Hills Bar &amp\; Grill. They will be providing beverages\, sweets\, and a chance to win a $50 gift certificate.
LOCATION:12800 Bunker Prairie Rd NW Coon Rapids\, MN 55448.
UID:e.380.159639
SEQUENCE:3
DTSTAMP:20260422T222000Z
URL:http://members.metronorthchamber.org/events/details/ribbon-cutting-kendall-s-tavern-chophouse-11-04-2015-159639
END:VEVENT

END:VCALENDAR
