BEGIN:VCALENDAR
VERSION:2.0
PRODID:-//ChamberMaster//Event Calendar 2.0//EN
METHOD:PUBLISH
X-PUBLISHED-TTL:P3D
REFRESH-INTERVAL:P3D
CALSCALE:GREGORIAN
BEGIN:VEVENT
DTSTART:20120418T140000Z
DTEND:20120418T150000Z
X-MICROSOFT-CDO-ALLDAYEVENT:FALSE
SUMMARY:Ribbon Cutting - Jersey Mike's Subs
DESCRIPTION:Come celebrate the Grand Opening and Ribbon Cutting of Jersey Mike's Sub Shop in Coon Rapids!
X-ALT-DESC;FMTTYPE=text/html:Come celebrate the Grand Opening and Ribbon Cutting of Jersey Mike&#39\;s Sub Shop in Coon Rapids!
LOCATION:3473 River Rapids Dr. NW Riverdale Village Coon Rapids\, MN 55448
UID:e.380.143785
SEQUENCE:3
DTSTAMP:20260425T192449Z
URL:http://members.metronorthchamber.org/events/details/ribbon-cutting-jersey-mike-s-subs-04-18-2012-143785
END:VEVENT

END:VCALENDAR
