BEGIN:VCALENDAR
VERSION:2.0
PRODID:-//ChamberMaster//Event Calendar 2.0//EN
METHOD:PUBLISH
X-PUBLISHED-TTL:P3D
REFRESH-INTERVAL:P3D
CALSCALE:GREGORIAN
BEGIN:VEVENT
DTSTART:20160505T160000Z
DTEND:20160505T163000Z
X-MICROSOFT-CDO-ALLDAYEVENT:FALSE
SUMMARY:Ribbon Cutting - Jersey Mike's
DESCRIPTION:Come celebrate the ribbon cutting for Jersey Mike's Subs! They're holding this event to celebrate their grand re-opening and new ownership! They will be providing sandwiches and coupons to guests.
X-ALT-DESC;FMTTYPE=text/html:<span style="font-size: 10pt\; font-family: Arial\, sans-serif\; background-image: initial\; background-attachment: initial\; background-size: initial\; background-origin: initial\; background-clip: initial\; background-position: initial\; background-repeat: initial\;">Come celebrate the ribbon cutting for Jersey Mike&rsquo\;s Subs! They&rsquo\;re holding this event to celebrate their grand re-opening and new ownership! They will be providing sandwiches and coupons to guests.</span>
LOCATION:Jersey Mike's 3473 River Rapids Drive NW Riverdale Village Coon Rapids\, MN 55448
UID:e.380.168064
SEQUENCE:3
DTSTAMP:20260422T133010Z
URL:http://members.metronorthchamber.org/events/details/ribbon-cutting-jersey-mike-s-05-05-2016-168064
END:VEVENT

END:VCALENDAR
