BEGIN:VCALENDAR
VERSION:2.0
PRODID:-//ChamberMaster//Event Calendar 2.0//EN
METHOD:PUBLISH
X-PUBLISHED-TTL:P3D
REFRESH-INTERVAL:P3D
CALSCALE:GREGORIAN
BEGIN:VEVENT
DTSTART:20171201T180000Z
DTEND:20171201T190000Z
X-MICROSOFT-CDO-ALLDAYEVENT:FALSE
SUMMARY:Ribbon Cutting - INI Bodyworks
DESCRIPTION:10 Years in Blaine!
X-ALT-DESC;FMTTYPE=text/html:10 Years in Blaine!
LOCATION:INI Bodywork & Wellness 1063 109th Ave NE Blaine
UID:e.380.179267
SEQUENCE:3
DTSTAMP:20260421T052856Z
URL:http://members.metronorthchamber.org/events/details/ribbon-cutting-ini-bodyworks-179267
END:VEVENT

END:VCALENDAR
