BEGIN:VCALENDAR
VERSION:2.0
PRODID:-//ChamberMaster//Event Calendar 2.0//EN
METHOD:PUBLISH
X-PUBLISHED-TTL:P3D
REFRESH-INTERVAL:P3D
CALSCALE:GREGORIAN
BEGIN:VEVENT
DTSTART:20161013T200000Z
DTEND:20161014T000000Z
X-MICROSOFT-CDO-ALLDAYEVENT:FALSE
SUMMARY:Ribbon Cutting - Iceberg Web Design
DESCRIPTION:Come and help celebrate the ribbon cutting for Iceberg Web Design. They have been in business for 11 years and just this year alone they have doubled their staff! They will be having appetizers and drinks (both the alcoholic and non alcoholic varieties) catered.
X-ALT-DESC;FMTTYPE=text/html:<span style="font-family:tahoma\;"><span style="font-size:14px\;">Come and help celebrate the ribbon cutting for Iceberg Web Design. They have been in business for 11 years and just this year alone they have doubled their staff! They will be<span style="color:black\;">&nbsp\;having appetizers and drinks (both the alcoholic and non alcoholic varieties) catered.</span></span></span>
LOCATION:Iceberg Web Design 203 Jackson Street Suite 203 Anoka\, MN 55303
UID:e.380.169328
SEQUENCE:3
DTSTAMP:20260422T052114Z
URL:http://members.metronorthchamber.org/events/details/ribbon-cutting-iceberg-web-design-169328
END:VEVENT

END:VCALENDAR
