BEGIN:VCALENDAR
VERSION:2.0
PRODID:-//ChamberMaster//Event Calendar 2.0//EN
METHOD:PUBLISH
X-PUBLISHED-TTL:P3D
REFRESH-INTERVAL:P3D
CALSCALE:GREGORIAN
BEGIN:VEVENT
DTSTART:20170721T170000Z
DTEND:20170721T180000Z
X-MICROSOFT-CDO-ALLDAYEVENT:FALSE
SUMMARY:Ribbon Cutting - House 2 Home
DESCRIPTION:Please Join Us for Our OPEN HOUSE at House 2 Home Flooring & Design!\n\n\n\nThis event is open to the public. House 2 Home will be celebrating 5 years of business and featuring our newly remodeled showroom and design loft. There will be food and beverages served\, a bounce house for kids' entertainment.  House 2 Home Flooring & Design will be collecting goods and monetary donations to support Hope 4 Youth of Anoka. Design staff will be on hand along with sales representatives to answer questions about flooring\, countertops\, tile and all other general interior design inquiries.\n\n\n\n*Bring an item to be donated to Hope 4 Youth and be entered into a drawing!*
X-ALT-DESC;FMTTYPE=text/html:Please Join Us for Our OPEN HOUSE at House 2 Home Flooring &amp\; Design!<br />\n<br />\nThis event is open to the public. House 2 Home will be celebrating 5 years of business and featuring our newly remodeled showroom and design loft.&nbsp\;There will be food and beverages served\, a bounce house for kids&#39\; entertainment. &nbsp\;House 2 Home Flooring &amp\; Design will be collecting goods and monetary donations to support Hope 4 Youth of Anoka. Design staff will be on hand along with sales representatives to answer questions about flooring\, countertops\, tile and all other general interior design inquiries.<br />\n<br />\n*Bring an item to be donated to Hope 4 Youth and be entered into a drawing!*
LOCATION:House 2 Home Flooring & Design 13838 Aberdeen St NE Ham Lake\, MN 55304
UID:e.380.175123
SEQUENCE:3
DTSTAMP:20260421T121612Z
URL:http://members.metronorthchamber.org/events/details/ribbon-cutting-house-2-home-175123
END:VEVENT

END:VCALENDAR
