BEGIN:VCALENDAR
VERSION:2.0
PRODID:-//ChamberMaster//Event Calendar 2.0//EN
METHOD:PUBLISH
X-PUBLISHED-TTL:P3D
REFRESH-INTERVAL:P3D
CALSCALE:GREGORIAN
BEGIN:VEVENT
DTSTART:20161205T220000Z
DTEND:20161205T230000Z
X-MICROSOFT-CDO-ALLDAYEVENT:FALSE
SUMMARY:Ribbon Cutting - HOPE 4 Youth
DESCRIPTION:Help us celebrate the completion of HOPE 4 Youth's new transitional housing program. They will be celebrating with an open house and ribbon cutting!\n\n\n\n80 Coon Rapids Blvd NW\n\nCoon Rapids\, MN 55448
X-ALT-DESC;FMTTYPE=text/html:Help us celebrate the completion of HOPE 4 Youth&#39\;s new transitional housing program. They will be celebrating with an open house and ribbon cutting!<br />\n<br />\n80 Coon Rapids Blvd NW<br />\nCoon Rapids\, MN 55448
LOCATION:80 Coon Rapids Blvd NW Coon Rapids\, MN 55448 Located between Wells Fargo and Michaels.
UID:e.380.170181
SEQUENCE:3
DTSTAMP:20260421T235719Z
URL:http://members.metronorthchamber.org/events/details/ribbon-cutting-hope-4-youth-170181
END:VEVENT

END:VCALENDAR
