BEGIN:VCALENDAR
VERSION:2.0
PRODID:-//ChamberMaster//Event Calendar 2.0//EN
METHOD:PUBLISH
X-PUBLISHED-TTL:P3D
REFRESH-INTERVAL:P3D
CALSCALE:GREGORIAN
BEGIN:VEVENT
DTSTART:20181119T200000Z
DTEND:20181119T203000Z
X-MICROSOFT-CDO-ALLDAYEVENT:FALSE
SUMMARY:Ribbon Cutting - Holiday Inn
DESCRIPTION:Tours\, appetizers\, and ribbon cutting.\n\nProgram starts at 2:00pm\n\nRibbon Cutting at 2:15
X-ALT-DESC;FMTTYPE=text/html:Tours\, appetizers\, and ribbon cutting.<br />\nProgram starts at 2:00pm<br />\nRibbon Cutting at 2:15
LOCATION:9333 Springbrook Drive NW Coon Rapids\, MN 55433 (763) 792-9292 (work)
UID:e.380.187457
SEQUENCE:3
DTSTAMP:20260420T121525Z
URL:http://members.metronorthchamber.org/events/details/ribbon-cutting-holiday-inn-187457
END:VEVENT

END:VCALENDAR
