BEGIN:VCALENDAR
VERSION:2.0
PRODID:-//ChamberMaster//Event Calendar 2.0//EN
METHOD:PUBLISH
X-PUBLISHED-TTL:P3D
REFRESH-INTERVAL:P3D
CALSCALE:GREGORIAN
BEGIN:VEVENT
DTSTART:20151106T150000Z
DTEND:20151106T151500Z
X-MICROSOFT-CDO-ALLDAYEVENT:FALSE
SUMMARY:Ribbon Cutting - Heartland Payment Systems
DESCRIPTION:James Lamb of Heartland Payment Systems will be celebrating 1 year as a MetroNorth Chamber member\, as well as 7 years with Heartland Payment Systems.
X-ALT-DESC;FMTTYPE=text/html:James Lamb of Heartland Payment Systems will be celebrating 1 year as a MetroNorth Chamber member\, as well as 7 years with Heartland Payment Systems.
LOCATION:The Tavern Grill 10950 Club West Parkway Blaine\, MN 55449
UID:e.380.159628
SEQUENCE:3
DTSTAMP:20260422T222505Z
URL:http://members.metronorthchamber.org/events/details/ribbon-cutting-heartland-payment-systems-11-06-2015-159628
END:VEVENT

END:VCALENDAR
