BEGIN:VCALENDAR
VERSION:2.0
PRODID:-//ChamberMaster//Event Calendar 2.0//EN
METHOD:PUBLISH
X-PUBLISHED-TTL:P3D
REFRESH-INTERVAL:P3D
CALSCALE:GREGORIAN
BEGIN:VEVENT
DTSTART:20120517T223000Z
DTEND:20120517T233000Z
X-MICROSOFT-CDO-ALLDAYEVENT:FALSE
SUMMARY:Ribbon Cutting - HealthSource Chiropractic
DESCRIPTION:Come celebrate with us the Ribbon Cutting for HealthSource Chiropractic! \n	\n		 \n	\n		Raffles\, refreshments\, tours\, door prizes and stress-break massages!
X-ALT-DESC;FMTTYPE=text/html:<div style="color: gray">\n	<div>\n		Come celebrate with us the Ribbon Cutting for HealthSource Chiropractic!&nbsp\;</div>\n	<div>\n		&nbsp\;</div>\n	<div>\n		Raffles\, refreshments\, tours\, door prizes and stress-break massages!</div>\n</div>\n
LOCATION:HealthSource Chiropractic - 10904 Baltimore St. NE\, Blaine
UID:e.380.143802
SEQUENCE:3
DTSTAMP:20260425T175746Z
URL:http://members.metronorthchamber.org/events/details/ribbon-cutting-healthsource-chiropractic-05-17-2012-143802
END:VEVENT

END:VCALENDAR
