BEGIN:VCALENDAR
VERSION:2.0
PRODID:-//ChamberMaster//Event Calendar 2.0//EN
METHOD:PUBLISH
X-PUBLISHED-TTL:P3D
REFRESH-INTERVAL:P3D
CALSCALE:GREGORIAN
BEGIN:VEVENT
DTSTART:20180428T153000Z
DTEND:20180428T220000Z
X-MICROSOFT-CDO-ALLDAYEVENT:FALSE
SUMMARY:Ribbon Cutting & Harley Davidson Grand Opening
DESCRIPTION:Grand Opening!\n\n\n\nHog Roast on site!\n\nFree Food for the First 1\,000 people.\n\n$1 Beer - Door Prizes - Giveaways: All Day Long\n\n\n\nRibbon Cutting at 10:45am
X-ALT-DESC;FMTTYPE=text/html:Grand Opening!<br />\n<br />\nHog Roast on site!<br />\nFree Food for the First 1\,000 people.<br />\n$1 Beer - Door Prizes - Giveaways: All Day Long<br />\n<br />\nRibbon Cutting at 10:45am
LOCATION:TC Harley 1355 98th Ave NE Blaine\, MN 55434 763-786-9079
UID:e.380.183764
SEQUENCE:3
DTSTAMP:20260420T230958Z
URL:http://members.metronorthchamber.org/events/details/ribbon-cutting-harley-davidson-grand-opening-183764
END:VEVENT

END:VCALENDAR
