BEGIN:VCALENDAR
VERSION:2.0
PRODID:-//ChamberMaster//Event Calendar 2.0//EN
METHOD:PUBLISH
X-PUBLISHED-TTL:P3D
REFRESH-INTERVAL:P3D
CALSCALE:GREGORIAN
BEGIN:VEVENT
DTSTART:20170309T180000Z
DTEND:20170309T184500Z
X-MICROSOFT-CDO-ALLDAYEVENT:FALSE
SUMMARY:Ribbon Cutting - Green Mill Blaine
DESCRIPTION:Help celebrate the completion of Green Mill's big remodel. They will be holding a ribbon cutting and providing refreshments for their guests.
X-ALT-DESC;FMTTYPE=text/html:Help celebrate the completion of Green Mill&#39\;s big remodel. They will be holding a ribbon cutting and providing refreshments for their guests.
LOCATION:Green Mill - Blaine 4355 Pheasant Ridge Drive Blaine\, MN 55449
UID:e.380.171493
SEQUENCE:3
DTSTAMP:20260421T204305Z
URL:http://members.metronorthchamber.org/events/details/ribbon-cutting-green-mill-blaine-171493
END:VEVENT

END:VCALENDAR
