BEGIN:VCALENDAR
VERSION:2.0
PRODID:-//ChamberMaster//Event Calendar 2.0//EN
METHOD:PUBLISH
X-PUBLISHED-TTL:P3D
REFRESH-INTERVAL:P3D
CALSCALE:GREGORIAN
BEGIN:VEVENT
DTSTART:20190426T160000Z
DTEND:20190427T010000Z
X-MICROSOFT-CDO-ALLDAYEVENT:FALSE
SUMMARY:Ribbon Cutting & Grand Reopening Crystal House Boutique
DESCRIPTION:Join us for the Grand Reopening\, Ribbon Cutting and 15th Anniversary Celebration of Crystal House Boutique from April 24-27! Enjoy complimentary cake and coffee\, daily door prizes\, various daily discounts\, and $15 off any purchase of $50 on April 26th! \n\n\n\nRibbon Cutting will be held on Friday\, April 26\, at 11:15 am.
X-ALT-DESC;FMTTYPE=text/html:Join us for the Grand Reopening\, Ribbon Cutting and 15th Anniversary Celebration of Crystal House Boutique from April 24-27! Enjoy complimentary cake and coffee\, daily door prizes\, various daily discounts\, and $15 off any purchase of $50 on April 26th!&nbsp\;<br />\n<br />\nRibbon Cutting will be held on Friday\, April 26\, at 11:15 am.
LOCATION:Crystal House Boutique 445 99th Avenue NW\, Suite 230 Coon Rapids 55433
UID:e.380.188848
SEQUENCE:3
DTSTAMP:20260420T041834Z
URL:http://members.metronorthchamber.org/events/details/ribbon-cutting-grand-reopening-crystal-house-boutique-188848
END:VEVENT

END:VCALENDAR
