BEGIN:VCALENDAR
VERSION:2.0
PRODID:-//ChamberMaster//Event Calendar 2.0//EN
METHOD:PUBLISH
X-PUBLISHED-TTL:P3D
REFRESH-INTERVAL:P3D
CALSCALE:GREGORIAN
BEGIN:VEVENT
DTSTART:20180714T140000Z
DTEND:20180714T170000Z
X-MICROSOFT-CDO-ALLDAYEVENT:FALSE
SUMMARY:Ribbon Cutting Grand Opening - Twin Cities Orthopedics
DESCRIPTION:Join us in celebrating the Grand Opening of Twin Cities Orthopedics in Blaine
X-ALT-DESC;FMTTYPE=text/html:Join us in celebrating the Grand Opening of Twin Cities Orthopedics in Blaine
LOCATION:11225 Ulysses St NE Blaine\, MN 55434
UID:e.380.185755
SEQUENCE:3
DTSTAMP:20260420T200840Z
URL:http://members.metronorthchamber.org/events/details/ribbon-cutting-grand-opening-twin-cities-orthopedics-185755
END:VEVENT

END:VCALENDAR
