BEGIN:VCALENDAR
VERSION:2.0
PRODID:-//ChamberMaster//Event Calendar 2.0//EN
METHOD:PUBLISH
X-PUBLISHED-TTL:P3D
REFRESH-INTERVAL:P3D
CALSCALE:GREGORIAN
BEGIN:VEVENT
DTSTART:20130517T163000Z
DTEND:20130517T170000Z
X-MICROSOFT-CDO-ALLDAYEVENT:FALSE
SUMMARY:Ribbon Cutting & Grand Opening\, Tires Plus-Blaine
DESCRIPTION:Please come celebrate with us the Grand Opening and Ribbon Cutting of Tires Plus in Blaine!  The actual cutting of the ribbon will occur promptly at 11:30 on Friday the 17th of May\, though this fun and festive celebration will be held during their regular business hours throughout the entire weekend.\n\n\n\nThe hours of operation for that weekend are:\n\nFriday 7 a.m. - 8 p.m.\n\nSaturday 7 a.m. - 6 p.m.\n\nSunday 9 a.m. - 5 p.m.
X-ALT-DESC;FMTTYPE=text/html:Please come celebrate with us the Grand Opening and Ribbon Cutting of Tires Plus in Blaine!&nbsp\; <em><strong>The actual cutting of the ribbon will occur promptly at&nbsp\;11:30 on Friday the 17th of May</strong></em>\, though this fun and festive celebration will be held during their regular business hours throughout the entire weekend.<br />\n<br />\nThe hours of operation for that weekend are:<br />\nFriday 7 a.m. - 8 p.m.<br />\nSaturday 7 a.m. - 6 p.m.<br />\nSunday 9 a.m. - 5 p.m.
LOCATION:Tires Plus 12507 Central Ave. NE Blaine\, MN 55434
UID:e.380.148644
SEQUENCE:3
DTSTAMP:20260424T225009Z
URL:http://members.metronorthchamber.org/events/details/ribbon-cutting-grand-opening-tires-plus-blaine-05-17-2013-148644
END:VEVENT

END:VCALENDAR
