BEGIN:VCALENDAR
VERSION:2.0
PRODID:-//ChamberMaster//Event Calendar 2.0//EN
METHOD:PUBLISH
X-PUBLISHED-TTL:P3D
REFRESH-INTERVAL:P3D
CALSCALE:GREGORIAN
BEGIN:VEVENT
DTSTART:20140620T170000Z
DTEND:20140620T173000Z
X-MICROSOFT-CDO-ALLDAYEVENT:FALSE
SUMMARY:Ribbon Cutting - Grand Opening for Today's Window Fashions
DESCRIPTION:Please come celebrate with us the Ribbon Cutting and Grand Opening of Today's Window Fashions!  Enjoy food\, beverage\, door prizes and drawings.\n\n \n\nFriday\, June 20th\, 2014\n\nRibbon Cutting promptly at Noon\n\n \n\nToday's Window Fashions\n\n13416 Hanson Blvd. NW\n\nAndover\, MN 55304\n\n \n\nAmbassador Team # 1
X-ALT-DESC;FMTTYPE=text/html:<span style="font-size: medium\;"><span style="font-family: calibri\;">Please come celebrate with us the Ribbon Cutting and Grand Opening of Today&rsquo\;s Window Fashions!&nbsp\; Enjoy food\, beverage\, door prizes and drawings.</span></span><br />\n&nbsp\;<br />\n<span style="font-size: medium\;"><span style="font-family: calibri\;">Friday\, June 20<sup><span style="font-size: small\;">th</span></sup>\, 2014</span></span><br />\n<span style="font-size: medium\;"><span style="font-family: calibri\;">Ribbon Cutting promptly at Noon</span></span><br />\n&nbsp\;<br />\n<span style="font-size: medium\;"><span style="font-family: calibri\;">Today&rsquo\;s Window Fashions</span></span><br />\n<span style="font-size: medium\;"><span style="font-family: calibri\;">13416 Hanson Blvd. NW</span></span><br />\n<span style="font-size: medium\;"><span style="font-family: calibri\;">Andover\, MN 55304</span></span><br />\n&nbsp\;<br />\n<strong><span style="font-size: medium\;"><span style="font-family: calibri\;">Ambassador Team # 1</span></span></strong><br />\n&nbsp\;
LOCATION:Today's Window Fashions 13416 Hanson Blvd. NW Andover\, MN 55304
UID:e.380.151343
SEQUENCE:3
DTSTAMP:20260424T031147Z
URL:http://members.metronorthchamber.org/events/details/ribbon-cutting-grand-opening-for-today-s-window-fashions-06-20-2014-151343
END:VEVENT

END:VCALENDAR
