BEGIN:VCALENDAR
VERSION:2.0
PRODID:-//ChamberMaster//Event Calendar 2.0//EN
METHOD:PUBLISH
X-PUBLISHED-TTL:P3D
REFRESH-INTERVAL:P3D
CALSCALE:GREGORIAN
BEGIN:VEVENT
DTSTART:20140904T210000Z
DTEND:20140904T220000Z
X-MICROSOFT-CDO-ALLDAYEVENT:FALSE
SUMMARY:Ribbon Cutting & Grand Opening for Premier Banks
DESCRIPTION:Please come celebrate with us the Grand Opening and Ribbon Cutting of Premier Banks!  Take a tour of their bank\, visit the petting zoo\, enjoy brats\, burgers and other refreshments and try the Treasure Chest with more than 50 prizes!!
X-ALT-DESC;FMTTYPE=text/html:Please come celebrate with us the Grand Opening and Ribbon Cutting of Premier Banks!&nbsp\;&nbsp\;Take a tour of their bank\, visit the petting zoo\, enjoy brats\, burgers and other refreshments and try the Treasure Chest with more than 50 prizes!!\n<p style="margin: 0in 0in 0pt\;">&nbsp\;</p>\n&nbsp\;
LOCATION:Premier Banks 2345 124th Ct. NE Ste. 300 Blaine\, MN 55449
UID:e.380.151537
SEQUENCE:3
DTSTAMP:20260423T210121Z
URL:http://members.metronorthchamber.org/events/details/ribbon-cutting-grand-opening-for-premier-banks-09-04-2014-151537
END:VEVENT

END:VCALENDAR
