BEGIN:VCALENDAR
VERSION:2.0
PRODID:-//ChamberMaster//Event Calendar 2.0//EN
METHOD:PUBLISH
X-PUBLISHED-TTL:P3D
REFRESH-INTERVAL:P3D
CALSCALE:GREGORIAN
BEGIN:VEVENT
DTSTART:20190410T210000Z
DTEND:20190410T220000Z
X-MICROSOFT-CDO-ALLDAYEVENT:FALSE
SUMMARY:Ribbon Cutting & Grand Opening for Pho Tai Vietnamese Noodle House
DESCRIPTION:Join us for a grand opening and ribbon cutting for new member Pho Tai Vietnamese Noodle House. Appetizer samples will be served.\n\n\n\nRibbon will be cut at 4:15 pm.
X-ALT-DESC;FMTTYPE=text/html:Join us for a grand opening and ribbon cutting for new member Pho Tai Vietnamese Noodle House. Appetizer samples will be served.<br />\n<br />\nRibbon will be cut at 4:15 pm.
LOCATION:Pho Tai Vietnamese Noodle House 10340 Baltimore Street NE Suite 170 Blaine 55449
UID:e.380.188885
SEQUENCE:3
DTSTAMP:20260420T060747Z
URL:http://members.metronorthchamber.org/events/details/ribbon-cutting-grand-opening-for-pho-tai-vietnamese-noodle-house-188885
END:VEVENT

END:VCALENDAR
