BEGIN:VCALENDAR
VERSION:2.0
PRODID:-//ChamberMaster//Event Calendar 2.0//EN
METHOD:PUBLISH
X-PUBLISHED-TTL:P3D
REFRESH-INTERVAL:P3D
CALSCALE:GREGORIAN
BEGIN:VEVENT
DTSTART:20140710T170000Z
DTEND:20140710T173000Z
X-MICROSOFT-CDO-ALLDAYEVENT:FALSE
SUMMARY:Ribbon Cutting - Grand Opening for Nothing Bundt Cakes
DESCRIPTION:Please come celebrate with us the Grand Opening and Ribbon Cutting for Nothing Bundt Cakes!\n\n\n\nThursday\, July 10th\, 2014\n\nThe ribbon cutting will be held promptly at Noon\n\n \n\nNothing Bundt Cakes\n\n1540 109th Ave. Ste # 200\n\nBlaine\, MN 55449
X-ALT-DESC;FMTTYPE=text/html:Please come celebrate with us the Grand Opening and Ribbon Cutting for Nothing Bundt Cakes!<br />\n<br />\n<span style="font-size: medium\;"><span style="font-family: calibri\;">Thursday\, July 10<sup><span style="font-size: small\;">th</span></sup>\, 2014</span></span><br />\n<span style="font-size: medium\;"><span style="font-family: calibri\;">The ribbon cutting will be held promptly at Noon</span></span><br />\n&nbsp\;<br />\n<span style="font-size: medium\;"><span style="font-family: calibri\;">Nothing Bundt Cakes</span></span><br />\n<span style="font-size: medium\;"><span style="font-family: calibri\;">1540 109<sup><span style="font-size: small\;">th</span></sup> Ave. Ste # 200</span></span><br />\n<span style="font-size: medium\;"><span style="font-family: calibri\;">Blaine\, MN 55449</span></span><br />\n&nbsp\;
LOCATION:Nothing Bundt Cakes 1540 109th Ave. Ste # 200 Blaine\, MN 55449
UID:e.380.151312
SEQUENCE:3
DTSTAMP:20260423T235614Z
URL:http://members.metronorthchamber.org/events/details/ribbon-cutting-grand-opening-for-nothing-bundt-cakes-07-10-2014-151312
END:VEVENT

END:VCALENDAR
