BEGIN:VCALENDAR
VERSION:2.0
PRODID:-//ChamberMaster//Event Calendar 2.0//EN
METHOD:PUBLISH
X-PUBLISHED-TTL:P3D
REFRESH-INTERVAL:P3D
CALSCALE:GREGORIAN
BEGIN:VEVENT
DTSTART:20120716T213000Z
DTEND:20120716T223000Z
X-MICROSOFT-CDO-ALLDAYEVENT:FALSE
SUMMARY:Ribbon Cutting & GRAND OPENING for National Sports Center's NEW Expo Center
DESCRIPTION:Come celebrate with us the GRAND OPENING and Ribbon Cutting and tour of the Expo Center at National Sports Center!
X-ALT-DESC;FMTTYPE=text/html:Come celebrate with us the GRAND OPENING and Ribbon Cutting and tour&nbsp\;of the Expo Center at National Sports Center!&nbsp\;&nbsp\;
LOCATION:National Sports Center 1700 105th Ave. NE Blaine\, MN 55449 * Right next to the Schwan Center
UID:e.380.145532
SEQUENCE:3
DTSTAMP:20260425T143448Z
URL:http://members.metronorthchamber.org/events/details/ribbon-cutting-grand-opening-for-national-sports-center-s-new-expo-center-07-16-2012-145532
END:VEVENT

END:VCALENDAR
