BEGIN:VCALENDAR
VERSION:2.0
PRODID:-//ChamberMaster//Event Calendar 2.0//EN
METHOD:PUBLISH
X-PUBLISHED-TTL:P3D
REFRESH-INTERVAL:P3D
CALSCALE:GREGORIAN
BEGIN:VEVENT
DTSTART:20140814T210000Z
DTEND:20140814T213000Z
X-MICROSOFT-CDO-ALLDAYEVENT:FALSE
SUMMARY:Ribbon Cutting & Grand Opening for Life Prep Academy
DESCRIPTION:Please come celebrate with us the Grand Opening and Ribbon Cutting celebration of Life Prep Academy.
X-ALT-DESC;FMTTYPE=text/html:Please come celebrate with us the Grand Opening and Ribbon Cutting celebration of Life Prep Academy.
LOCATION:Life Prep Academy 1628 County Hwy. 10 Spring Lake Park\, MN 55432
UID:e.380.151486
SEQUENCE:3
DTSTAMP:20260423T222528Z
URL:http://members.metronorthchamber.org/events/details/ribbon-cutting-grand-opening-for-life-prep-academy-08-14-2014-151486
END:VEVENT

END:VCALENDAR
